BEGIN:VCALENDAR
VERSION:2.0
PRODID:-//Gesellschaft für Christlich-Jüdische Zusammenarbeit Darmstadt e.V. - ECPv6.15.20//NONSGML v1.0//EN
CALSCALE:GREGORIAN
METHOD:PUBLISH
X-WR-CALNAME:Gesellschaft für Christlich-Jüdische Zusammenarbeit Darmstadt e.V.
X-ORIGINAL-URL:https://www.gcjz-darmstadt.de
X-WR-CALDESC:Veranstaltungen für Gesellschaft für Christlich-Jüdische Zusammenarbeit Darmstadt e.V.
REFRESH-INTERVAL;VALUE=DURATION:PT1H
X-Robots-Tag:noindex
X-PUBLISHED-TTL:PT1H
BEGIN:VTIMEZONE
TZID:Europe/Berlin
BEGIN:DAYLIGHT
TZOFFSETFROM:+0100
TZOFFSETTO:+0200
TZNAME:CEST
DTSTART:20250330T010000
END:DAYLIGHT
BEGIN:STANDARD
TZOFFSETFROM:+0200
TZOFFSETTO:+0100
TZNAME:CET
DTSTART:20251026T010000
END:STANDARD
BEGIN:DAYLIGHT
TZOFFSETFROM:+0100
TZOFFSETTO:+0200
TZNAME:CEST
DTSTART:20260329T010000
END:DAYLIGHT
BEGIN:STANDARD
TZOFFSETFROM:+0200
TZOFFSETTO:+0100
TZNAME:CET
DTSTART:20261025T010000
END:STANDARD
BEGIN:DAYLIGHT
TZOFFSETFROM:+0100
TZOFFSETTO:+0200
TZNAME:CEST
DTSTART:20270328T010000
END:DAYLIGHT
BEGIN:STANDARD
TZOFFSETFROM:+0200
TZOFFSETTO:+0100
TZNAME:CET
DTSTART:20271031T010000
END:STANDARD
END:VTIMEZONE
BEGIN:VEVENT
DTSTART;TZID=Europe/Berlin:20260423T193000
DTEND;TZID=Europe/Berlin:20260423T210000
DTSTAMP:20260423T141814
CREATED:20260126T091212Z
LAST-MODIFIED:20260127T170926Z
UID:3182-1776972600-1776978000@www.gcjz-darmstadt.de
SUMMARY:Jüdisches Leben in Groß-Zimmern
DESCRIPTION:Anlässlich der 750-Jahr-Feier der Gemeinde Groß-Zimmern lädt der Glöckelchen e.V. – Verein für Kunst\, Kultur und Heimatgeschichte – im Jahr 2026 zu einer historischen Vortragsreihe ein. In Zusammenarbeit mit regionalen und überregionalen Partnern beleuchten Referentinnen und Referenten zentrale Aspekte der Ortsgeschichte von ihren mittelalterlichen Anfängen bis in die jüngere Vergangenheit. Veranstaltungsort aller Vorträge ist das Kulturzentrum Glöckelchen\, Beginn jeweils um 19:30 Uhr. Der Eintritt ist frei. \n\n\n\n\n\n\n\nAm Donnerstag\, 23. April 2026\, spricht Rahel Blum (Frankfurt) zum Thema „Jüdisches Leben in Groß-Zimmern – Einblicke in die Geschichte der jüdischen Landgemeinde“. Seit dem frühen 17. Jahrhundert lebten Juden in Groß-Zimmern; im 18. Jahrhundert entstand eine selbstständige Gemeinde\, die bis Mitte des 19. Jahrhunderts auf über 140 Personen anwuchs. Rahel Blum zeichnet die Entwicklung der Gemeinde nach\, deren Zentrum die Synagoge in der Kreuzstraße 17 war\, und thematisiert zugleich Verfolgung\, Flucht und Ermordung der letzten Gemeindemitglieder in der Zeit des Nationalsozialismus. Die Referentin ist wissenschaftliche Mitarbeiterin im Projekt „Synagogen-Gedenkbuch Hessen“ an der Goethe-Universität Frankfurt. Die Veranstaltung wird gemeinsam mit der Gesellschaft für Christlich-Jüdische Zusammenarbeit Darmstadt durchgeführt.
URL:https://www.gcjz-darmstadt.de/veranstaltung/juedisches-leben-in-gross-zimmern/
LOCATION:Kulturzentrum Glöckelchen\, Angestraße 18\, Groß-Zimmern\, 64846
ATTACH;FMTTYPE=image/png:https://www.gcjz-darmstadt.de/wp-content/uploads/2026/01/Plakat.png
END:VEVENT
END:VCALENDAR